BEGIN:VCALENDAR
VERSION:2.0
PRODID:-//Tacoma Public Utilities - ECPv6.15.20//NONSGML v1.0//EN
CALSCALE:GREGORIAN
METHOD:PUBLISH
X-ORIGINAL-URL:https://www.mytpu.org
X-WR-CALDESC:Events for Tacoma Public Utilities
REFRESH-INTERVAL;VALUE=DURATION:PT1H
X-Robots-Tag:noindex
X-PUBLISHED-TTL:PT1H
BEGIN:VTIMEZONE
TZID:America/Los_Angeles
BEGIN:DAYLIGHT
TZOFFSETFROM:-0800
TZOFFSETTO:-0700
TZNAME:PDT
DTSTART:20250309T100000
END:DAYLIGHT
BEGIN:STANDARD
TZOFFSETFROM:-0700
TZOFFSETTO:-0800
TZNAME:PST
DTSTART:20251102T090000
END:STANDARD
BEGIN:DAYLIGHT
TZOFFSETFROM:-0800
TZOFFSETTO:-0700
TZNAME:PDT
DTSTART:20260308T100000
END:DAYLIGHT
BEGIN:STANDARD
TZOFFSETFROM:-0700
TZOFFSETTO:-0800
TZNAME:PST
DTSTART:20261101T090000
END:STANDARD
BEGIN:DAYLIGHT
TZOFFSETFROM:-0800
TZOFFSETTO:-0700
TZNAME:PDT
DTSTART:20270314T100000
END:DAYLIGHT
BEGIN:STANDARD
TZOFFSETFROM:-0700
TZOFFSETTO:-0800
TZNAME:PST
DTSTART:20271107T090000
END:STANDARD
END:VTIMEZONE
BEGIN:VEVENT
DTSTART;TZID=America/Los_Angeles:20260115T163000
DTEND;TZID=America/Los_Angeles:20260115T191500
DTSTAMP:20260419T095523
CREATED:20251226T165757Z
LAST-MODIFIED:20260107T205434Z
UID:10000366-1768494600-1768504500@www.mytpu.org
SUMMARY:Women in Trades Event
DESCRIPTION:Are you a woman interested in a career in the trades? Join us in an informal\, open setting to learn about a variety of careers within trades across the City of Tacoma\, including Power\, Water\, Rail\, Public Works\, Environmental Services\, and Police. You’ll hear from female leaders at the City\, discuss the many trade careers\, learn about career advancement\, and hear first-hand accounts of what it’s like to be a female journey-level employee. We will also explain the hiring process and provide information about salary and benefits. While the event highlights opportunities for women in the trades across the City\, everyone is welcome to attend and participate!   \n\n4:30 p.m. – Welcome  \n4:40 p.m. – Overview of trade offerings at the City of Tacoma \n5:20 p.m. – Application process  \n5:40 p.m. – Q&A with panel  \n6:20 – 7:15 p.m. – Networking  \n\nThis a free event\, but registration is required. Click here to register. 
URL:https://www.mytpu.org/event/women-in-trades-event-1-15-26/
LOCATION:Tacoma Public Utilities\, 3628 S 35th St\, Tacoma\, WA\, 98409\, United States
CATEGORIES:Tacoma Power,Tacoma Public Utilities,Tacoma Rail,Tacoma Water
END:VEVENT
END:VCALENDAR