BEGIN:VCALENDAR
VERSION:2.0
PRODID:-//Tacoma Public Utilities - ECPv6.15.20//NONSGML v1.0//EN
CALSCALE:GREGORIAN
METHOD:PUBLISH
X-WR-CALNAME:Tacoma Public Utilities
X-ORIGINAL-URL:https://www.mytpu.org
X-WR-CALDESC:Events for Tacoma Public Utilities
REFRESH-INTERVAL;VALUE=DURATION:PT1H
X-Robots-Tag:noindex
X-PUBLISHED-TTL:PT1H
BEGIN:VTIMEZONE
TZID:America/Los_Angeles
BEGIN:DAYLIGHT
TZOFFSETFROM:-0800
TZOFFSETTO:-0700
TZNAME:PDT
DTSTART:20240310T100000
END:DAYLIGHT
BEGIN:STANDARD
TZOFFSETFROM:-0700
TZOFFSETTO:-0800
TZNAME:PST
DTSTART:20241103T090000
END:STANDARD
BEGIN:DAYLIGHT
TZOFFSETFROM:-0800
TZOFFSETTO:-0700
TZNAME:PDT
DTSTART:20250309T100000
END:DAYLIGHT
BEGIN:STANDARD
TZOFFSETFROM:-0700
TZOFFSETTO:-0800
TZNAME:PST
DTSTART:20251102T090000
END:STANDARD
BEGIN:DAYLIGHT
TZOFFSETFROM:-0800
TZOFFSETTO:-0700
TZNAME:PDT
DTSTART:20260308T100000
END:DAYLIGHT
BEGIN:STANDARD
TZOFFSETFROM:-0700
TZOFFSETTO:-0800
TZNAME:PST
DTSTART:20261101T090000
END:STANDARD
END:VTIMEZONE
BEGIN:VEVENT
DTSTART;TZID=America/Los_Angeles:20250802T100000
DTEND;TZID=America/Los_Angeles:20250802T170000
DTSTAMP:20260419T091550
CREATED:20250430T225912Z
LAST-MODIFIED:20250508T214807Z
UID:10000347-1754128800-1754154000@www.mytpu.org
SUMMARY:Proctor Arts Fest
DESCRIPTION:Visit the Tacoma Public Utilities booth and learn about utility assistance programs and ways your family can be more efficient with water and power use in your home. The Tacoma Power team will share information on electric car charging\, renewable energy options\, and home improvement incentives. Tacoma Water have outdoor conservation tips\, an activity book\, and unique objects from the Green River Watershed. 
URL:https://www.mytpu.org/event/proctor-arts-fest/
LOCATION:Proctor District\, North 26th & Proctor
CATEGORIES:Tacoma Power,Tacoma Public Utilities,Tacoma Water
END:VEVENT
BEGIN:VEVENT
DTSTART;TZID=America/Los_Angeles:20250805T170000
DTEND;TZID=America/Los_Angeles:20250805T200000
DTSTAMP:20260419T091550
CREATED:20250430T230102Z
LAST-MODIFIED:20251125T190344Z
UID:10000348-1754413200-1754424000@www.mytpu.org
SUMMARY:National Night Out
DESCRIPTION:Visit the Tacoma Public Utilities booth and learn about utility assistance programs and ways your family can be more efficient with water and power use in your home. The Tacoma Power team will share information on electric car charging\, renewable energy options\, and home improvement incentives. Tacoma Water have outdoor conservation tips\, an activity book\, and unique objects from the Green River Watershed. 
URL:https://www.mytpu.org/event/national-night-out/
CATEGORIES:Tacoma Power,Tacoma Public Utilities,Tacoma Water
END:VEVENT
BEGIN:VEVENT
DTSTART;TZID=America/Los_Angeles:20250807T100000
DTEND;TZID=America/Los_Angeles:20250807T140000
DTSTAMP:20260419T091550
CREATED:20250430T230307Z
LAST-MODIFIED:20250508T214916Z
UID:10000349-1754560800-1754575200@www.mytpu.org
SUMMARY:Broadway Farmers Market
DESCRIPTION:Visit the Tacoma Public Utilities booth and learn about utility assistance programs and ways your family can be more efficient with water and power use in your home. The Tacoma Power team will share information on electric car charging\, renewable energy options\, and home improvement incentives. Tacoma Water have outdoor conservation tips\, an activity book\, and unique objects from the Green River Watershed. 
URL:https://www.mytpu.org/event/broadway-farmers-market-6/
LOCATION:Broadway between 9th & 11th\, Tacoma\, WA\, United States
CATEGORIES:Tacoma Power,Tacoma Public Utilities,Tacoma Water
END:VEVENT
BEGIN:VEVENT
DTSTART;TZID=America/Los_Angeles:20250807T100000
DTEND;TZID=America/Los_Angeles:20250807T140000
DTSTAMP:20260419T091550
CREATED:20250612T210415Z
LAST-MODIFIED:20250612T210415Z
UID:10000359-1754560800-1754575200@www.mytpu.org
SUMMARY:Tacoma Farmers Market – Broadway Market
DESCRIPTION:The Broadway Farmers Market is celebrating its 35th year in 2025!  This vibrant Downtown Tacoma marketplace brings together the highest quality local Washington growers\, specialty food producers\, hot food vendors\, and artisans. We offer weekly music. There is something for everyone on Broadway. Come for lunch – Shop for dinner!
URL:https://www.mytpu.org/event/tacoma-farmers-market-broadway-market/
LOCATION:9th & Broadway\, 925 Broadway\, Tacoma\, WA\, 98402\, United States
END:VEVENT
BEGIN:VEVENT
DTSTART;TZID=America/Los_Angeles:20250810T100000
DTEND;TZID=America/Los_Angeles:20250810T180000
DTSTAMP:20260419T091550
CREATED:20250430T231127Z
LAST-MODIFIED:20250508T215053Z
UID:10000350-1754820000-1754848800@www.mytpu.org
SUMMARY:Pierce County Fair
DESCRIPTION:Visit the Tacoma Power booth and learn about utility assistance programs and ways your family can be more efficient with power use in your home. The team will share information on electric car charging\, renewable energy options\, and home improvement incentives. 
URL:https://www.mytpu.org/event/pierce-county-fair/
LOCATION:Frontier Park\, 21710 Meridian E\, Graham\, WA\, 98338\, United States
CATEGORIES:Tacoma Power,Tacoma Public Utilities
END:VEVENT
BEGIN:VEVENT
DTSTART;TZID=America/Los_Angeles:20250812T140000
DTEND;TZID=America/Los_Angeles:20250812T190000
DTSTAMP:20260419T091550
CREATED:20250430T231314Z
LAST-MODIFIED:20250508T215150Z
UID:10000351-1755007200-1755025200@www.mytpu.org
SUMMARY:Lakewood Farmers Market
DESCRIPTION:Visit the Tacoma Power booth and learn about utility assistance programs and ways your family can be more efficient with power use in your home. The team will share information on electric car charging\, renewable energy options\, and home improvement incentives. 
URL:https://www.mytpu.org/event/lakewood-farmers-market-7/
LOCATION:Fort Steilacoom Park\, 8714 87th Ave SW\, Lakewood\, WA\, 98498\, United States
CATEGORIES:Tacoma Power,Tacoma Public Utilities
END:VEVENT
BEGIN:VEVENT
DTSTART;TZID=America/Los_Angeles:20250813T183000
DTEND;TZID=America/Los_Angeles:20250813T183000
DTSTAMP:20260419T091550
CREATED:20241212T212607Z
LAST-MODIFIED:20241212T212614Z
UID:10000319-1755109800-1755109800@www.mytpu.org
SUMMARY:Public Utility Board Meeting
DESCRIPTION:Click here to view agendas and minutes and for information on how to attend
URL:https://www.mytpu.org/event/public-utility-board-meeting-08-13-25/
LOCATION:TPU Auditorium\, 3628 S. 35th Street\, Tacoma\, 98409\, United States
CATEGORIES:Public Utility Board Meeting,Tacoma Power,Tacoma Public Utilities,Tacoma Rail,Tacoma Water
END:VEVENT
BEGIN:VEVENT
DTSTART;TZID=America/Los_Angeles:20250821T150000
DTEND;TZID=America/Los_Angeles:20250821T180000
DTSTAMP:20260419T091550
CREATED:20250430T231837Z
LAST-MODIFIED:20250820T190408Z
UID:10000353-1755788400-1755799200@www.mytpu.org
SUMMARY:Stuff the Bus
DESCRIPTION:Visit the Tacoma Public Utilities booth and learn about utility assistance programs and ways your family can be more efficient with water and power use in your home. The Tacoma Power team will share information on electric car charging\, renewable energy options\, and home improvement incentives. Tacoma Water have outdoor conservation tips\, an activity book\, and unique objects from the Green River Watershed. 
URL:https://www.mytpu.org/event/stuff-the-bus-8-21-25/
LOCATION:Oakland High School\, 3702 Mckinley Avenue\, Tacoma\, WA\, 94610\, United States
CATEGORIES:Tacoma Public Utilities,Tacoma Water
END:VEVENT
BEGIN:VEVENT
DTSTART;TZID=America/Los_Angeles:20250823T110000
DTEND;TZID=America/Los_Angeles:20250823T190000
DTSTAMP:20260419T091550
CREATED:20250430T231516Z
LAST-MODIFIED:20250508T215350Z
UID:10000352-1755946800-1755975600@www.mytpu.org
SUMMARY:Hilltop Street Fair
DESCRIPTION:Visit the Tacoma Public Utilities booth and learn about utility assistance programs and ways your family can be more efficient with water and power use in your home. The Tacoma Power team will share information on electric car charging\, renewable energy options\, and home improvement incentives. Tacoma Water have outdoor conservation tips\, an activity book\, and unique objects from the Green River Watershed. 
URL:https://www.mytpu.org/event/hilltop-street-fair-2/
LOCATION:Hilltop\, MLK Jr Way
CATEGORIES:Tacoma Power,Tacoma Public Utilities,Tacoma Water
END:VEVENT
BEGIN:VEVENT
DTSTART;TZID=America/Los_Angeles:20250827T183000
DTEND;TZID=America/Los_Angeles:20250827T183000
DTSTAMP:20260419T091550
CREATED:20241212T212737Z
LAST-MODIFIED:20241212T212744Z
UID:10000320-1756319400-1756319400@www.mytpu.org
SUMMARY:Public Utility Board Meeting
DESCRIPTION:Click here to view agendas and minutes and for information on how to attend
URL:https://www.mytpu.org/event/public-utility-board-meeting-08-27-25/
LOCATION:TPU Auditorium\, 3628 S. 35th Street\, Tacoma\, 98409\, United States
CATEGORIES:Public Utility Board Meeting,Tacoma Power,Tacoma Public Utilities,Tacoma Rail,Tacoma Water
END:VEVENT
END:VCALENDAR