BEGIN:VCALENDAR
VERSION:2.0
PRODID:-//Tacoma Public Utilities - ECPv6.15.20//NONSGML v1.0//EN
CALSCALE:GREGORIAN
METHOD:PUBLISH
X-ORIGINAL-URL:https://www.mytpu.org
X-WR-CALDESC:Events for Tacoma Public Utilities
REFRESH-INTERVAL;VALUE=DURATION:PT1H
X-Robots-Tag:noindex
X-PUBLISHED-TTL:PT1H
BEGIN:VTIMEZONE
TZID:America/Los_Angeles
BEGIN:DAYLIGHT
TZOFFSETFROM:-0800
TZOFFSETTO:-0700
TZNAME:PDT
DTSTART:20240310T100000
END:DAYLIGHT
BEGIN:STANDARD
TZOFFSETFROM:-0700
TZOFFSETTO:-0800
TZNAME:PST
DTSTART:20241103T090000
END:STANDARD
BEGIN:DAYLIGHT
TZOFFSETFROM:-0800
TZOFFSETTO:-0700
TZNAME:PDT
DTSTART:20250309T100000
END:DAYLIGHT
BEGIN:STANDARD
TZOFFSETFROM:-0700
TZOFFSETTO:-0800
TZNAME:PST
DTSTART:20251102T090000
END:STANDARD
BEGIN:DAYLIGHT
TZOFFSETFROM:-0800
TZOFFSETTO:-0700
TZNAME:PDT
DTSTART:20260308T100000
END:DAYLIGHT
BEGIN:STANDARD
TZOFFSETFROM:-0700
TZOFFSETTO:-0800
TZNAME:PST
DTSTART:20261101T090000
END:STANDARD
END:VTIMEZONE
BEGIN:VEVENT
DTSTART;TZID=America/Los_Angeles:20250607T110000
DTEND;TZID=America/Los_Angeles:20250607T180000
DTSTAMP:20260418T222807
CREATED:20250430T214634Z
LAST-MODIFIED:20250508T213650Z
UID:10000338-1749294000-1749319200@www.mytpu.org
SUMMARY:Point Defiance Garden Show
DESCRIPTION:Visit the Tacoma Public Utilities booth and learn about utility assistance programs and ways your family can be more efficient with water and power use in your home. The Tacoma Power team will share information on electric car charging\, renewable energy options\, and home improvement incentives. Tacoma Water have outdoor conservation tips\, an activity book\, and unique objects from the Green River Watershed. 
URL:https://www.mytpu.org/event/point-defiance-garden-show/
LOCATION:Point Defiance Zoo & Aquarium\, 5400 N. Pearl Street\, Tacoma\, WA\, 98407\, United States
CATEGORIES:Tacoma Power,Tacoma Public Utilities,Tacoma Water
END:VEVENT
BEGIN:VEVENT
DTSTART;TZID=America/Los_Angeles:20250611T183000
DTEND;TZID=America/Los_Angeles:20250611T183000
DTSTAMP:20260418T222807
CREATED:20241212T211823Z
LAST-MODIFIED:20250606T200239Z
UID:10000315-1749666600-1749666600@www.mytpu.org
SUMMARY:CANCELLED: Public Utility Board Meeting
DESCRIPTION:Click here to view agendas and minutes and for information on how to attend
URL:https://www.mytpu.org/event/public-utility-board-meeting-06-11-25/
LOCATION:TPU Auditorium\, 3628 S. 35th Street\, Tacoma\, 98409\, United States
CATEGORIES:Public Utility Board Meeting,Tacoma Power,Tacoma Public Utilities,Tacoma Rail,Tacoma Water
END:VEVENT
BEGIN:VEVENT
DTSTART;TZID=America/Los_Angeles:20250612T160000
DTEND;TZID=America/Los_Angeles:20250612T190000
DTSTAMP:20260418T222807
CREATED:20250430T220038Z
LAST-MODIFIED:20250508T213750Z
UID:10000339-1749744000-1749754800@www.mytpu.org
SUMMARY:Tacoma Public Schools Juneteenth
DESCRIPTION:Visit the Tacoma Public Utilities booth and learn about utility assistance programs and ways your family can be more efficient with water and power use in your home. The Tacoma Power team will share information on electric car charging\, renewable energy options\, and home improvement incentives. Tacoma Water have outdoor conservation tips\, an activity book\, and unique objects from the Green River Watershed. 
URL:https://www.mytpu.org/event/tacoma-public-schools-juneteenth/
LOCATION:Tacoma Art Museum (Cheney Room)\, 1701 Pacific Avenue\, Tacoma\, WA\, 98402\, United States
CATEGORIES:Tacoma Power,Tacoma Public Utilities,Tacoma Water
END:VEVENT
BEGIN:VEVENT
DTSTART;TZID=America/Los_Angeles:20250614T063000
DTEND;TZID=America/Los_Angeles:20250614T110000
DTSTAMP:20260418T222807
CREATED:20250430T220804Z
LAST-MODIFIED:20250508T214036Z
UID:10000340-1749882600-1749898800@www.mytpu.org
SUMMARY:Sound to Narrows
DESCRIPTION:Tacoma Water is a proud sponsor of the Tacoma Sound to Narrows. Quench your thirst and cool off with clean drinking water at our hydration stations along the route. There is also a water bottle filling station near the Pt. Defiance duck pond. 
URL:https://www.mytpu.org/event/sounds-to-narrows/
LOCATION:Narrows Dr\, N Narrows Dr & N Vassault Dr\, Tacoma\, WA\, 98407\, United States
CATEGORIES:Tacoma Public Utilities,Tacoma Water
END:VEVENT
BEGIN:VEVENT
DTSTART;TZID=America/Los_Angeles:20250619T110000
DTEND;TZID=America/Los_Angeles:20250619T170000
DTSTAMP:20260418T222807
CREATED:20250612T205852Z
LAST-MODIFIED:20250616T171638Z
UID:10000356-1750330800-1750352400@www.mytpu.org
SUMMARY:Building Youth Through Music - Juneteeth
DESCRIPTION:Visit the Tacoma Public Utilities booth and learn about utility assistance programs and ways your family can be more efficient with water and power use in your home. The Tacoma Power team will share information on electric car charging\, renewable energy options\, and home improvement incentives. Tacoma Water have outdoor conservation tips\, an activity book\, and unique objects from the Green River Watershed.
URL:https://www.mytpu.org/event/building-youth-through-music-juneteeth/
LOCATION:Stewart Heights Park\, 5715 Reginald Gutierrez Lane\, Tacoma\, WA\, 98404\, United States
END:VEVENT
BEGIN:VEVENT
DTSTART;TZID=America/Los_Angeles:20250624T140000
DTEND;TZID=America/Los_Angeles:20250624T190000
DTSTAMP:20260418T222807
CREATED:20250430T222122Z
LAST-MODIFIED:20250508T214243Z
UID:10000342-1750773600-1750791600@www.mytpu.org
SUMMARY:Lakewood Farmers Market
DESCRIPTION:Visit the Tacoma Power booth and learn about utility assistance programs and ways your family can be more efficient with power use in your home. The team will share information on electric car charging\, renewable energy options\, and home improvement incentives. 
URL:https://www.mytpu.org/event/lakewood-farmers-market-3/
LOCATION:Fort Steilacoom Park\, 8714 87th Ave SW\, Lakewood\, WA\, 98498\, United States
CATEGORIES:Tacoma Power,Tacoma Public Utilities
END:VEVENT
BEGIN:VEVENT
DTSTART;TZID=America/Los_Angeles:20250625T183000
DTEND;TZID=America/Los_Angeles:20250625T183000
DTSTAMP:20260418T222807
CREATED:20241212T211953Z
LAST-MODIFIED:20241212T212001Z
UID:10000316-1750876200-1750876200@www.mytpu.org
SUMMARY:Public Utility Board Meeting
DESCRIPTION:Click here to view agendas and minutes and for information on how to attend
URL:https://www.mytpu.org/event/public-utility-board-meeting-06-25-25/
LOCATION:TPU Auditorium\, 3628 S. 35th Street\, Tacoma\, 98409\, United States
CATEGORIES:Public Utility Board Meeting,Tacoma Power,Tacoma Public Utilities,Tacoma Rail,Tacoma Water
END:VEVENT
BEGIN:VEVENT
DTSTART;TZID=America/Los_Angeles:20250626T100000
DTEND;TZID=America/Los_Angeles:20250626T140000
DTSTAMP:20260418T222807
CREATED:20250430T222323Z
LAST-MODIFIED:20250508T214349Z
UID:10000343-1750932000-1750946400@www.mytpu.org
SUMMARY:Broadway Farmers Market
DESCRIPTION:Visit the Tacoma Public Utilities booth and learn about utility assistance programs and ways your family can be more efficient with water and power use in your home. The Tacoma Power team will share information on electric car charging\, renewable energy options\, and home improvement incentives. Tacoma Water have outdoor conservation tips\, an activity book\, and unique objects from the Green River Watershed. 
URL:https://www.mytpu.org/event/lakewood-farmers-market-4/
LOCATION:Broadway between 9th & 11th\, Tacoma\, WA\, United States
CATEGORIES:Tacoma Power,Tacoma Public Utilities,Tacoma Water
END:VEVENT
END:VCALENDAR