BEGIN:VCALENDAR
VERSION:2.0
PRODID:-//Tacoma Public Utilities - ECPv6.15.20//NONSGML v1.0//EN
CALSCALE:GREGORIAN
METHOD:PUBLISH
X-ORIGINAL-URL:https://www.mytpu.org
X-WR-CALDESC:Events for Tacoma Public Utilities
REFRESH-INTERVAL;VALUE=DURATION:PT1H
X-Robots-Tag:noindex
X-PUBLISHED-TTL:PT1H
BEGIN:VTIMEZONE
TZID:America/Los_Angeles
BEGIN:DAYLIGHT
TZOFFSETFROM:-0800
TZOFFSETTO:-0700
TZNAME:PDT
DTSTART:20240310T100000
END:DAYLIGHT
BEGIN:STANDARD
TZOFFSETFROM:-0700
TZOFFSETTO:-0800
TZNAME:PST
DTSTART:20241103T090000
END:STANDARD
BEGIN:DAYLIGHT
TZOFFSETFROM:-0800
TZOFFSETTO:-0700
TZNAME:PDT
DTSTART:20250309T100000
END:DAYLIGHT
BEGIN:STANDARD
TZOFFSETFROM:-0700
TZOFFSETTO:-0800
TZNAME:PST
DTSTART:20251102T090000
END:STANDARD
BEGIN:DAYLIGHT
TZOFFSETFROM:-0800
TZOFFSETTO:-0700
TZNAME:PDT
DTSTART:20260308T100000
END:DAYLIGHT
BEGIN:STANDARD
TZOFFSETFROM:-0700
TZOFFSETTO:-0800
TZNAME:PST
DTSTART:20261101T090000
END:STANDARD
END:VTIMEZONE
BEGIN:VEVENT
DTSTART;TZID=America/Los_Angeles:20250423T183000
DTEND;TZID=America/Los_Angeles:20250423T183000
DTSTAMP:20260424T003904
CREATED:20241212T210205Z
LAST-MODIFIED:20241212T210215Z
UID:10000311-1745433000-1745433000@www.mytpu.org
SUMMARY:Public Utility Board Meeting
DESCRIPTION:Click here to view agendas and minutes and for information on how to attend
URL:https://www.mytpu.org/event/public-utility-board-meeting-04-23-25/
LOCATION:TPU Auditorium\, 3628 S. 35th Street\, Tacoma\, 98409\, United States
CATEGORIES:Public Utility Board Meeting,Tacoma Power,Tacoma Public Utilities,Tacoma Rail,Tacoma Water
END:VEVENT
BEGIN:VEVENT
DTSTART;TZID=America/Los_Angeles:20250426T100000
DTEND;TZID=America/Los_Angeles:20250426T150000
DTSTAMP:20260424T003904
CREATED:20250423T182502Z
LAST-MODIFIED:20250423T182512Z
UID:10000331-1745661600-1745679600@www.mytpu.org
SUMMARY:Sustainability Expo 2025
DESCRIPTION:Visit Tacoma Public Utilities at the 17th Annual South Sound Sustainability Expo and learn about utility assistance programs and ways your family can be more efficient with water and power use in your home. Tacoma Power will have information on electric car charging\, renewable energy options\, home improvement incentives and offers. The Tacoma Water team will share water conservation tips and provide information on automated meters and leak alerts. Sign up for a free water savings kit\, get a water activity book\, and explore unique objects from the Green River Watershed.   \nThis year’s Expo also features an Electrification Marketplace section featuring diverse vendors ready to assist participants in electrifying their lives. The Expo event is free\, open to the public\, and connects residents and businesses with services\, products\, companies\, and agencies addressing sustainability needs in the community.  \nThe event is from 10 AM to 3 PM on Saturday\, April 26th\, at the University of Washington Tacoma Campus Prairie Line Trail & Tollefson Plaza. 
URL:https://www.mytpu.org/event/sustainability-expo-2025/
LOCATION:UW Tacoma Campus\, Tollefson Plaza\, 1548 Commerce Streeet\, Tacoma\, WA\, 98402\, United States
END:VEVENT
END:VCALENDAR