BEGIN:VCALENDAR
VERSION:2.0
PRODID:-//Tacoma Public Utilities - ECPv6.15.20//NONSGML v1.0//EN
CALSCALE:GREGORIAN
METHOD:PUBLISH
X-WR-CALNAME:Tacoma Public Utilities
X-ORIGINAL-URL:https://www.mytpu.org
X-WR-CALDESC:Events for Tacoma Public Utilities
REFRESH-INTERVAL;VALUE=DURATION:PT1H
X-Robots-Tag:noindex
X-PUBLISHED-TTL:PT1H
BEGIN:VTIMEZONE
TZID:America/Los_Angeles
BEGIN:DAYLIGHT
TZOFFSETFROM:-0800
TZOFFSETTO:-0700
TZNAME:PDT
DTSTART:20250309T100000
END:DAYLIGHT
BEGIN:STANDARD
TZOFFSETFROM:-0700
TZOFFSETTO:-0800
TZNAME:PST
DTSTART:20251102T090000
END:STANDARD
BEGIN:DAYLIGHT
TZOFFSETFROM:-0800
TZOFFSETTO:-0700
TZNAME:PDT
DTSTART:20260308T100000
END:DAYLIGHT
BEGIN:STANDARD
TZOFFSETFROM:-0700
TZOFFSETTO:-0800
TZNAME:PST
DTSTART:20261101T090000
END:STANDARD
BEGIN:DAYLIGHT
TZOFFSETFROM:-0800
TZOFFSETTO:-0700
TZNAME:PDT
DTSTART:20270314T100000
END:DAYLIGHT
BEGIN:STANDARD
TZOFFSETFROM:-0700
TZOFFSETTO:-0800
TZNAME:PST
DTSTART:20271107T090000
END:STANDARD
END:VTIMEZONE
BEGIN:VEVENT
DTSTART;TZID=America/Los_Angeles:20260422T183000
DTEND;TZID=America/Los_Angeles:20260422T183000
DTSTAMP:20260417T182450
CREATED:20260217T211724Z
LAST-MODIFIED:20260217T211724Z
UID:10000371-1776882600-1776882600@www.mytpu.org
SUMMARY:Public Utility Board Meeting
DESCRIPTION:Click here to view agendas and minutes and for information on how to attend.
URL:https://www.mytpu.org/event/public-utility-board-meeting-4-22-26/
LOCATION:TPU Auditorium\, 3628 S. 35th Street\, Tacoma\, 98409\, United States
CATEGORIES:Public Utility Board Meeting,Tacoma Power,Tacoma Public Utilities,Tacoma Rail,Tacoma Water
END:VEVENT
END:VCALENDAR