BEGIN:VCALENDAR
VERSION:2.0
PRODID:-//Tacoma Public Utilities - ECPv6.15.20//NONSGML v1.0//EN
CALSCALE:GREGORIAN
METHOD:PUBLISH
X-WR-CALNAME:Tacoma Public Utilities
X-ORIGINAL-URL:https://www.mytpu.org
X-WR-CALDESC:Events for Tacoma Public Utilities
REFRESH-INTERVAL;VALUE=DURATION:PT1H
X-Robots-Tag:noindex
X-PUBLISHED-TTL:PT1H
BEGIN:VTIMEZONE
TZID:America/Los_Angeles
BEGIN:DAYLIGHT
TZOFFSETFROM:-0800
TZOFFSETTO:-0700
TZNAME:PDT
DTSTART:20240310T100000
END:DAYLIGHT
BEGIN:STANDARD
TZOFFSETFROM:-0700
TZOFFSETTO:-0800
TZNAME:PST
DTSTART:20241103T090000
END:STANDARD
BEGIN:DAYLIGHT
TZOFFSETFROM:-0800
TZOFFSETTO:-0700
TZNAME:PDT
DTSTART:20250309T100000
END:DAYLIGHT
BEGIN:STANDARD
TZOFFSETFROM:-0700
TZOFFSETTO:-0800
TZNAME:PST
DTSTART:20251102T090000
END:STANDARD
BEGIN:DAYLIGHT
TZOFFSETFROM:-0800
TZOFFSETTO:-0700
TZNAME:PDT
DTSTART:20260308T100000
END:DAYLIGHT
BEGIN:STANDARD
TZOFFSETFROM:-0700
TZOFFSETTO:-0800
TZNAME:PST
DTSTART:20261101T090000
END:STANDARD
END:VTIMEZONE
BEGIN:VEVENT
DTSTART;TZID=America/Los_Angeles:20251105T183000
DTEND;TZID=America/Los_Angeles:20251105T183000
DTSTAMP:20260424T091625
CREATED:20241212T213938Z
LAST-MODIFIED:20251027T174921Z
UID:10000325-1762367400-1762367400@www.mytpu.org
SUMMARY:Public Utility Board Meeting
DESCRIPTION:Click here to view agendas and minutes and for information on how to attend
URL:https://www.mytpu.org/event/public-utility-board-meeting-11-5-25/
LOCATION:TPU Auditorium\, 3628 S. 35th Street\, Tacoma\, 98409\, United States
CATEGORIES:Public Utility Board Meeting,Tacoma Power,Tacoma Public Utilities,Tacoma Rail,Tacoma Water
END:VEVENT
BEGIN:VEVENT
DTSTART;TZID=America/Los_Angeles:20251117T083000
DTEND;TZID=America/Los_Angeles:20251117T083000
DTSTAMP:20260424T091625
CREATED:20251114T163333Z
LAST-MODIFIED:20251114T163413Z
UID:10000361-1763368200-1763368200@www.mytpu.org
SUMMARY:Special Public Utility Board Meeting
DESCRIPTION:Click here to view agendas and minutes and for information on how to attend
URL:https://www.mytpu.org/event/special-public-utility-board-meeting-11-17-25/
LOCATION:Virtual Event
CATEGORIES:Public Utility Board Meeting,Tacoma Power,Tacoma Public Utilities,Tacoma Rail,Tacoma Water
END:VEVENT
END:VCALENDAR